BEGIN:VCALENDAR
VERSION:2.0
PRODID:-//eventon.com NONSGML v1.0//EN
CALSCALE:GREGORIAN
METHOD:PUBLISH
BEGIN:VEVENT
UID:69e4dd2a522e1
DTSTAMP:20260419T134826Z
DTSTART:20250614T060000Z
DTEND:20250614T070000Z
LOCATION:Bierkönig (Official Site) C/ Padre Bartolomé Salvá\,  6-8
SUMMARY:ES - Peter Wackel LIVE im Bierkönig (Mallorca)
DESCRIPTION:Zusatzshow\nhttps://www.wackel.de/events/es-peter-wackel-live-i
 m-bierkoenig-mallorca-29/
URL:https://www.wackel.de/events/es-peter-wackel-live-im-bierkoenig-mallorca-29/
END:VEVENT
END:VCALENDAR