BEGIN:VCALENDAR
VERSION:2.0
PRODID:-//eventon.com NONSGML v1.0//EN
CALSCALE:GREGORIAN
METHOD:PUBLISH
BEGIN:VEVENT
UID:69ea4a2f3073e
DTSTAMP:20260423T163455Z
DTSTART:20260926
DTEND:20260927
LOCATION:
SUMMARY:DE - Peter Wackel LIVE in Nürnberg
DESCRIPTION:Die Schlagernacht des Jahres\nhttps://www.wackel.de/events/de-p
 eter-wackel-live-in-nuernberg-3/
URL:https://www.wackel.de/events/de-peter-wackel-live-in-nuernberg-3/
END:VEVENT
END:VCALENDAR