BEGIN:VCALENDAR
VERSION:2.0
PRODID:-//eventon.com NONSGML v1.0//EN
CALSCALE:GREGORIAN
METHOD:PUBLISH
BEGIN:VEVENT
UID:69ea6306eceaf
DTSTAMP:20260423T182054Z
DTSTART:20261107
DTEND:20261108
LOCATION:
SUMMARY:DE - Peter Wackel LIVE in Oberhausen
DESCRIPTION:Die Schlagernacht des Jahres\nhttps://www.wackel.de/events/de-p
 eter-wackel-live-in-oberhausen-4/
URL:https://www.wackel.de/events/de-peter-wackel-live-in-oberhausen-4/
END:VEVENT
END:VCALENDAR