BEGIN:VCALENDAR
VERSION:2.0
PRODID:-//eventon.com NONSGML v1.0//EN
CALSCALE:GREGORIAN
METHOD:PUBLISH
BEGIN:VEVENT
UID:69ea8298217ea
DTSTAMP:20260423T203536Z
DTSTART:20261121
DTEND:20261122
LOCATION:
SUMMARY:DE - Peter Wackel LIVE in Berlin
DESCRIPTION:Die Schlagernacht des Jahres\nhttps://www.wackel.de/events/de-p
 eter-wackel-live-in-berlin-4/
URL:https://www.wackel.de/events/de-peter-wackel-live-in-berlin-4/
END:VEVENT
END:VCALENDAR