BEGIN:VCALENDAR
VERSION:2.0
PRODID:-//eventon.com NONSGML v1.0//EN
CALSCALE:GREGORIAN
METHOD:PUBLISH
BEGIN:VEVENT
UID:69ea948236c2d
DTSTAMP:20260423T215202Z
DTSTART:20261128T140000Z
DTEND:20261128T220000Z
LOCATION:
SUMMARY:DE - 30 Jahre Peter Wackel LIVE in Köln
DESCRIPTION:Die große Jubiläumsshow! 8 Stunden Vollgas in der LANXESS are
 na mit den besten Hits aus 30 Jahren Mallorca\,  Schlager\,  Karneval\,  Ap
 rès Ski und Co. Außerdem mit dabei: Mickie Krause\,  Michael Holm\,  die 
 Höhner und viele weitere mehr! Tickets gibt es ab sofort bei eventim oder 
 als VIP-Paket inkl. Hotel\,  Pre-[..]\nhttps://www.wackel.de/events/de-30-j
 ahre-peter-wackel-live-in-koeln/
URL:https://www.wackel.de/events/de-30-jahre-peter-wackel-live-in-koeln/
END:VEVENT
END:VCALENDAR