BEGIN:VCALENDAR
VERSION:2.0
PRODID:-//eventon.com NONSGML v1.0//EN
CALSCALE:GREGORIAN
METHOD:PUBLISH
BEGIN:VEVENT
UID:69e7fda4d56ff
DTSTAMP:20260421T224348Z
DTSTART:20261022T120000Z
DTEND:20261022T124500Z
LOCATION:
SUMMARY:ES - Peter Wackel LIVE im Bierkönig (Mallorca)
DESCRIPTION:Closing\nhttps://www.wackel.de/events/es-peter-wackel-live-im-b
 ierkoenig-mallorca-86/
URL:https://www.wackel.de/events/es-peter-wackel-live-im-bierkoenig-mallorca-86/
END:VEVENT
END:VCALENDAR