BEGIN:VCALENDAR
VERSION:2.0
PRODID:-//eventon.com NONSGML v1.0//EN
CALSCALE:GREGORIAN
METHOD:PUBLISH
BEGIN:VEVENT
UID:69e7e38b09327
DTSTAMP:20260421T205227Z
DTSTART:20261023
DTEND:20261024
LOCATION:
SUMMARY:ES - Peter Wackel LIVE im Bierkönig (Mallorca)
DESCRIPTION:Closing\nhttps://www.wackel.de/events/es-peter-wackel-live-im-b
 ierkoenig-mallorca-87/
URL:https://www.wackel.de/events/es-peter-wackel-live-im-bierkoenig-mallorca-87/
END:VEVENT
END:VCALENDAR