BEGIN:VCALENDAR
VERSION:2.0
PRODID:-//eventon.com NONSGML v1.0//EN
CALSCALE:GREGORIAN
METHOD:PUBLISH
BEGIN:VEVENT
UID:69e7c5cf84d94
DTSTAMP:20260421T184535Z
DTSTART:20260919
DTEND:20260920
LOCATION:
SUMMARY:DE - Peter Wackel LIVE in Bremen
DESCRIPTION:Die Schlagernacht des Jahres\nhttps://www.wackel.de/events/de-p
 eter-wackel-live-in-bremen-5/
URL:https://www.wackel.de/events/de-peter-wackel-live-in-bremen-5/
END:VEVENT
END:VCALENDAR