BEGIN:VCALENDAR
VERSION:2.0
PRODID:-//eventon.com NONSGML v1.0//EN
CALSCALE:GREGORIAN
METHOD:PUBLISH
BEGIN:VEVENT
UID:69e7ad37c8d25
DTSTAMP:20260421T170039Z
DTSTART:20261003
DTEND:20261004
LOCATION:
SUMMARY:DE - Peter Wackel LIVE in Bad Segeberg
DESCRIPTION:Möbel Kraft Oktoberfest // Uhrzeit folgt\nhttps://www.wackel.d
 e/events/de-peter-wackel-live-in-bad-segeberg-4/
URL:https://www.wackel.de/events/de-peter-wackel-live-in-bad-segeberg-4/
END:VEVENT
END:VCALENDAR