BEGIN:VCALENDAR
VERSION:2.0
PRODID:-//eventon.com NONSGML v1.0//EN
CALSCALE:GREGORIAN
METHOD:PUBLISH
BEGIN:VEVENT
UID:69e79381c59b0
DTSTAMP:20260421T151057Z
DTSTART:20260307T171500Z
DTEND:20260307T174500Z
LOCATION:
SUMMARY:DE - Peter Wackel LIVE in Köln (20 Jahre Lorenz Büffel)
DESCRIPTION:Partyboot\nhttps://www.wackel.de/events/de-peter-wackel-live-in
 -koeln-20-jahre-lorenz-bueffel/
URL:https://www.wackel.de/events/de-peter-wackel-live-in-koeln-20-jahre-lorenz-bueffel/
END:VEVENT
END:VCALENDAR