BEGIN:VCALENDAR
VERSION:2.0
PRODID:-//eventon.com NONSGML v1.0//EN
CALSCALE:GREGORIAN
METHOD:PUBLISH
BEGIN:VEVENT
UID:69e78f033e634
DTSTAMP:20260421T145147Z
DTSTART:20260704
DTEND:20260705
LOCATION:
SUMMARY:DE - Peter Wackel LIVE in Eckernförde
DESCRIPTION:Weitere Infos folgen\nhttps://www.wackel.de/events/de-peter-wac
 kel-live-in-eckernfoerde-2/
URL:https://www.wackel.de/events/de-peter-wackel-live-in-eckernfoerde-2/
END:VEVENT
END:VCALENDAR