BEGIN:VCALENDAR
VERSION:2.0
PRODID:-//eventon.com NONSGML v1.0//EN
CALSCALE:GREGORIAN
METHOD:PUBLISH
BEGIN:VEVENT
UID:69e7a8506738c
DTSTAMP:20260421T163944Z
DTSTART:20260731T230000Z
DTEND:20260731T234500Z
LOCATION:
SUMMARY:DE - Peter Wackel LIVE in Umkirch
DESCRIPTION:Heuboden\nhttps://www.wackel.de/events/de-peter-wackel-live-in-
 umkirch/
URL:https://www.wackel.de/events/de-peter-wackel-live-in-umkirch/
END:VEVENT
END:VCALENDAR