BEGIN:VCALENDAR
VERSION:2.0
PRODID:-//eventon.com NONSGML v1.0//EN
CALSCALE:GREGORIAN
METHOD:PUBLISH
BEGIN:VEVENT
UID:69e7c17f89be1
DTSTAMP:20260421T182711Z
DTSTART:20261010T230000Z
DTEND:20261010T234500Z
LOCATION:
SUMMARY:DE - Peter Wackel LIVE in Zörbig
DESCRIPTION:Zörbiger Saftwiesen\nhttps://www.wackel.de/events/de-peter-wac
 kel-live-in-zoerbig/
URL:https://www.wackel.de/events/de-peter-wackel-live-in-zoerbig/
END:VEVENT
END:VCALENDAR