BEGIN:VCALENDAR
VERSION:2.0
PRODID:-//eventon.com NONSGML v1.0//EN
CALSCALE:GREGORIAN
METHOD:PUBLISH
BEGIN:VEVENT
UID:69e5076ce1007
DTSTAMP:20260419T164844Z
DTSTART:20180810T235900Z
DTEND:20180811T010000Z
LOCATION:Spk. Brückenfest-Möhnesee.de
SUMMARY:Peter Wackel LIVE in Möhnesee-Körbecke ca. 24 Uhr
DESCRIPTION:Peter Wackel LIVE in Möhnesee-Körbecke ca. 24 Uhr\nhttps://ww
 w.wackel.de/events/peter-wackel-live-in-moehnesee-koerbecke-ca-24-uhr/
URL:https://www.wackel.de/events/peter-wackel-live-in-moehnesee-koerbecke-ca-24-uhr/
END:VEVENT
END:VCALENDAR