BEGIN:VCALENDAR
VERSION:2.0
PRODID:-//eventon.com NONSGML v1.0//EN
CALSCALE:GREGORIAN
METHOD:PUBLISH
BEGIN:VEVENT
UID:69e637cb378e1
DTSTAMP:20260420T142723Z
DTSTART:20190810T190000Z
DTEND:20190810T200000Z
LOCATION:SSB Gelände Stadion Niederrhein
SUMMARY:Peter Wackel LIVE in Oberhausen
DESCRIPTION:Oberhausen feiert\nhttps://www.wackel.de/events/peter-wackel-li
 ve-ruhrgebiet/
URL:https://www.wackel.de/events/peter-wackel-live-ruhrgebiet/
END:VEVENT
END:VCALENDAR