BEGIN:VCALENDAR
VERSION:2.0
PRODID:-//eventon.com NONSGML v1.0//EN
CALSCALE:GREGORIAN
METHOD:PUBLISH
BEGIN:VEVENT
UID:69e79199574d3
DTSTAMP:20260421T150249Z
DTSTART:20210515T190000Z
DTEND:20210515T200000Z
LOCATION:Vechta
SUMMARY:Peter Wackel LIVE in Vechta <strong>VERSCHOBEN AUF 2022</strong>
DESCRIPTION:Uhrzeit folgt\nhttps://www.wackel.de/events/peter-wackel-live-i
 n-vechta-2/
URL:https://www.wackel.de/events/peter-wackel-live-in-vechta-2/
END:VEVENT
END:VCALENDAR