BEGIN:VCALENDAR
VERSION:2.0
PRODID:-//eventon.com NONSGML v1.0//EN
CALSCALE:GREGORIAN
METHOD:PUBLISH
BEGIN:VEVENT
UID:69e5f88d9060b
DTSTAMP:20260420T095733Z
DTSTART:20220219T153000Z
DTEND:20220219T170000Z
LOCATION:KuhBar Arosa KuhBar bei der Tschuggenhütte\,  7050 Arosa
SUMMARY:Peter Wackel LIVE in CH-Arosa
DESCRIPTION:Après Ski Party in der Kuhbar!\nhttps://www.wackel.de/events/p
 eter-wackel-live-in-ch-arosa-10/
URL:https://www.wackel.de/events/peter-wackel-live-in-ch-arosa-10/
END:VEVENT
END:VCALENDAR