BEGIN:VCALENDAR
VERSION:2.0
PRODID:-//eventon.com NONSGML v1.0//EN
CALSCALE:GREGORIAN
METHOD:PUBLISH
BEGIN:VEVENT
UID:69e75d4b71825
DTSTAMP:20260421T111939Z
DTSTART:20220430T210000Z
DTEND:20220430T220000Z
LOCATION:Hartheim
SUMMARY:🇩🇪 Peter Wackel LIVE in Hartheim
DESCRIPTION:🇩🇪 Peter Wackel LIVE in Hartheim\nhttps://www.wackel.de/e
 vents/peter-wackel-live-in-hartheim-2/
URL:https://www.wackel.de/events/peter-wackel-live-in-hartheim-2/
END:VEVENT
END:VCALENDAR