BEGIN:VCALENDAR
VERSION:2.0
PRODID:-//eventon.com NONSGML v1.0//EN
CALSCALE:GREGORIAN
METHOD:PUBLISH
BEGIN:VEVENT
UID:69e78cb674d6c
DTSTAMP:20260421T144158Z
DTSTART:20220924T211500Z
DTEND:20220924T220000Z
LOCATION:Polstermöbelzelt Möbel Kraft\,  Bad Segeberg
SUMMARY:🇩🇪 Peter Wackel LIVE in Bad Segeberg <strong>(LEIDER ABGESAGT)</strong>
DESCRIPTION:Möbel Kraft Oktoberfest 2022\nhttps://www.wackel.de/events/pet
 er-wackel-live-in-bad-segeberg-6/
URL:https://www.wackel.de/events/peter-wackel-live-in-bad-segeberg-6/
END:VEVENT
END:VCALENDAR