BEGIN:VCALENDAR
VERSION:2.0
PRODID:-//eventon.com NONSGML v1.0//EN
CALSCALE:GREGORIAN
METHOD:PUBLISH
BEGIN:VEVENT
UID:69e67ecbd6f07
DTSTAMP:20260420T193019Z
DTSTART:20230929T180000Z
DTEND:20230929T230000Z
LOCATION:Merchweiler
SUMMARY:DE - Peter Wackel LIVE in Merchweiler
DESCRIPTION:Oktoberfest &#8211; Uhrzeit folgt\nhttps://www.wackel.de/events
 /%f0%9f%87%a9%f0%9f%87%aa-peter-wackel-live-in-merchweiler/
URL:https://www.wackel.de/events/%f0%9f%87%a9%f0%9f%87%aa-peter-wackel-live-in-merchweiler/
END:VEVENT
END:VCALENDAR