BEGIN:VCALENDAR
VERSION:2.0
PRODID:-//eventon.com NONSGML v1.0//EN
CALSCALE:GREGORIAN
METHOD:PUBLISH
BEGIN:VEVENT
UID:69e778fdf0211
DTSTAMP:20260421T131749Z
DTSTART:20230422T230000Z
DTEND:20230422T235900Z
LOCATION:Hartheim
SUMMARY:🇩🇪 Peter Wackel LIVE in Hartheim
DESCRIPTION:🇩🇪 Peter Wackel LIVE in Hartheim\nhttps://www.wackel.de/e
 vents/%f0%9f%87%a9%f0%9f%87%aa-peter-wackel-live-in-hartheim/
URL:https://www.wackel.de/events/%f0%9f%87%a9%f0%9f%87%aa-peter-wackel-live-in-hartheim/
END:VEVENT
END:VCALENDAR