BEGIN:VCALENDAR
VERSION:2.0
PRODID:-//eventon.com NONSGML v1.0//EN
CALSCALE:GREGORIAN
METHOD:PUBLISH
BEGIN:VEVENT
UID:69eace8e7c6b6
DTSTAMP:20260424T015942Z
DTSTART:20250801T180000Z
DTEND:20250801T220000Z
LOCATION:IGA Park
SUMMARY:DE - Peter Wackel LIVE in Rostock
DESCRIPTION:Mega Mallorca Open Air Rostock &#8211; Uhrzeit folgt\nhttps://w
 ww.wackel.de/events/de-peter-wackel-live-in-rostock/
URL:https://www.wackel.de/events/de-peter-wackel-live-in-rostock/
END:VEVENT
END:VCALENDAR